BEGIN:VCALENDAR
VERSION:2.0
PRODID:-//UFE Berlin - ECPv6.15.20//NONSGML v1.0//EN
CALSCALE:GREGORIAN
METHOD:PUBLISH
X-WR-CALNAME:UFE Berlin - Agenda
X-ORIGINAL-URL:https://ufe-berlin.com
X-WR-CALDESC:Évènements pour UFE Berlin
REFRESH-INTERVAL;VALUE=DURATION:PT1H
X-Robots-Tag:noindex
X-PUBLISHED-TTL:PT1H
BEGIN:VTIMEZONE
TZID:Europe/Berlin
BEGIN:DAYLIGHT
TZOFFSETFROM:+0100
TZOFFSETTO:+0200
TZNAME:CEST
DTSTART:20240331T010000
END:DAYLIGHT
BEGIN:STANDARD
TZOFFSETFROM:+0200
TZOFFSETTO:+0100
TZNAME:CET
DTSTART:20241027T010000
END:STANDARD
BEGIN:DAYLIGHT
TZOFFSETFROM:+0100
TZOFFSETTO:+0200
TZNAME:CEST
DTSTART:20250330T010000
END:DAYLIGHT
BEGIN:STANDARD
TZOFFSETFROM:+0200
TZOFFSETTO:+0100
TZNAME:CET
DTSTART:20251026T010000
END:STANDARD
BEGIN:DAYLIGHT
TZOFFSETFROM:+0100
TZOFFSETTO:+0200
TZNAME:CEST
DTSTART:20260329T010000
END:DAYLIGHT
BEGIN:STANDARD
TZOFFSETFROM:+0200
TZOFFSETTO:+0100
TZNAME:CET
DTSTART:20261025T010000
END:STANDARD
END:VTIMEZONE
BEGIN:VEVENT
DTSTART;TZID=Europe/Berlin:20250119T150000
DTEND;TZID=Europe/Berlin:20250119T180000
DTSTAMP:20260423T162709
CREATED:20250105T153709Z
LAST-MODIFIED:20250508T182410Z
UID:10000113-1737298800-1737309600@ufe-berlin.com
SUMMARY:Après-midi « galette des rois »
DESCRIPTION:L’équipe UFE-Berlin vous présente\, ainsi qu’à vos proches\, tous ses vœux pour cette nouvelle année 2025. \nDeutsche Version unten\n\nAfin de partager un moment de convivialité et fêter la nouvelle année\, nous vous convions à un traditionnel après-midi « galette des rois ». \nCet évènement aura lieu le dimanche 19 janvier 2025 à 15h00 au cinéma « Klick Kino » (Windscheidstraße 19\, 10627 Berlin) – RSVP avant le 14 janvier 2025 \nLes galettes des rois seront proposées par notre partenaire Aux Délices Normands. \n  \nL’entrée de 6.50 €\, payable sur place\, comprend : \n\n\nune boisson chaude (café / thé)\,\nun verre de Crémant ou une boisson non alcoolisée\net la fameuse galette\n\nVeuillez confirmer votre présence avant le 14/01/2025 pour que nous puissions organiser au mieux cet événement et assurer une galette pour chacun. \n\n  \nAdhésion ou renouvellement à l’UFE Berlin 2025\nSi vous n’avez pas encore renouvelé votre adhésion pour l’année 2024\, nous vous encourageons à le faire dès maintenant pour continuer à bénéficier de tous les avantages offerts par l’UFE.\nBulletin : UFE_Berlin_Adhesion 2025 \nAu plaisir de vous retrouver le 19 janvier ! \nLe Bureau UFE Berlin \n  \n\n  \nLiebe Freunde von UFE Berlin\, \nDas UFE-Berlin-Team wünscht Ihnen und Ihren Angehörigen alles Gute für das neue Jahr 2025. \nUm einen Moment der Geselligkeit zu teilen und das neue Jahr zu feiern\, laden wir Sie zu einem traditionellen „Galette des rois“-Nachmittag ein. \nDiese Veranstaltung findet am 19. Januar 2025 um 15.00 Uhr im « Klick Kino » (Windscheidstraße 19\, 10627 Berlin) statt – Antwort vor dem 14.01.2025. \nDie Galettes des rois werden von unserem Partner Aux Délices Normands angeboten. \nDer Eintritt von 6\,50 €\, zahlbar vor Ort\, beinhaltet : \n\nein Heißgetränk (Kaffee/Tee)\,\nein Glas Crémant oder ein alkoholfreies Getränk\nund die berühmte Galette.\n\nBitte bestätigen Sie Ihre Teilnahme vor dem 14.01.2025\, damit wir diese Veranstaltung bestmöglich organisieren und für jeden eine Galette gewährleisten können. \n  \nBeitritt oder Verlängerung der Mitgliedschaft bei UFE Berlin 2025 \nFalls Sie Ihre Mitgliedschaft für das Jahr 2025 noch nicht erneuert haben\, möchten wir Sie ermutigen\, dies jetzt zu tun\, damit Sie weiterhin von allen von UFE angebotenen Vorteilen profitieren können. \nBulletin : UFE_Berlin_Adhesion 2025 \nLe Bureau UFE Berlin
URL:https://ufe-berlin.com/evenement/apres-midi-galette-des-rois/
LOCATION:KLICK Kino\, Windscheidstraße 19\, Berlin\, Berlin\, 10627\, Allemagne
CATEGORIES:EVENEMENT UFE-BERLIN
ATTACH;FMTTYPE=image/png:https://ufe-berlin.com/wp-content/uploads/2025/01/galette-2025-ufe.png
ORGANIZER;CN="UFE Berlin":MAILTO:contact@ufe-berlin.com
END:VEVENT
END:VCALENDAR